BEGIN:VCALENDAR
VERSION:2.0
PRODID:-//wp-events-plugin.com//7.2.3//EN
BEGIN:VEVENT
UID:58@artsfindlay.co.uk
DTSTART;TZID=Europe/London:20240328T190000
DTEND;TZID=Europe/London:20240328T213000
DTSTAMP:20240207T115819Z
URL:https://artsfindlay.co.uk/events/lutterworth-stitchers-talk
SUMMARY:Lutterworth Stitchers TALK
DESCRIPTION:
ATTACH;FMTTYPE=image/jpeg:https://artsfindlay.co.uk/wp-content/uploads/202
 0/05/AtomicKateFindlaysmall.jpg
CATEGORIES:events
LOCATION:Wycliffe Memorial Church Hall\, \, Bitteswell Road\,  Leics \, Lut
 terworth\, LE17 4EZ\, United Kingdom
X-APPLE-STRUCTURED-LOCATION;VALUE=URI;X-ADDRESS=\, Bitteswell Road\,  Leics
  \, Lutterworth\, LE17 4EZ\, United Kingdom;X-APPLE-RADIUS=100;X-TITLE=Wyc
 liffe Memorial Church Hall:geo:0,0
END:VEVENT
BEGIN:VTIMEZONE
TZID:Europe/London
X-LIC-LOCATION:Europe/London
BEGIN:STANDARD
DTSTART:20231029T010000
TZOFFSETFROM:+0100
TZOFFSETTO:+0000
TZNAME:GMT
END:STANDARD
END:VTIMEZONE
END:VCALENDAR