BEGIN:VCALENDAR
VERSION:2.0
PRODID:-//wp-events-plugin.com//7.2.3//EN
BEGIN:VEVENT
UID:5@artsfindlay.co.uk
DTSTART;TZID=Europe/London;VALUE=DATE:20200731
DTEND;TZID=Europe/London;VALUE=DATE:20200803
DTSTAMP:20200621T154414Z
URL:https://artsfindlay.co.uk/events/artists-at-goring-2
SUMMARY:Artists at Goring
DESCRIPTION:Exhibition at Goring Village Hall. This three day show is showi
 ng the work of a small group of professional artists in the lovely village
  of Goring. Social distancing will apply\, but you will be very welcome.
ATTACH;FMTTYPE=image/jpeg:https://artsfindlay.co.uk/wp-content/uploads/202
 0/06/IMG_9072Birchwoodswebbanner.jpg
LOCATION:Goring Village Hall\, Village Hall Goring\, Reading\, Berkshire\, 
 RG8 9AG\, South East\, United Kingdom
X-APPLE-STRUCTURED-LOCATION;VALUE=URI;X-ADDRESS=Village Hall Goring\, Readi
 ng\, Berkshire\, RG8 9AG\, South East\, United Kingdom;X-APPLE-RADIUS=100;
 X-TITLE=Goring Village Hall:geo:0,0
END:VEVENT
BEGIN:VTIMEZONE
TZID:Europe/London
X-LIC-LOCATION:Europe/London
BEGIN:DAYLIGHT
DTSTART:20200329T020000
TZOFFSETFROM:+0000
TZOFFSETTO:+0100
TZNAME:BST
END:DAYLIGHT
END:VTIMEZONE
END:VCALENDAR